BEGIN:VCALENDAR
VERSION:2.0
PRODID:-//FREEPORT REVOLVER &amp; RIFLE ASSOCIATION - ECPv6.15.20//NONSGML v1.0//EN
CALSCALE:GREGORIAN
METHOD:PUBLISH
X-WR-CALNAME:FREEPORT REVOLVER &amp; RIFLE ASSOCIATION
X-ORIGINAL-URL:https://freeportrevolver.org
X-WR-CALDESC:Events for FREEPORT REVOLVER &amp; RIFLE ASSOCIATION
REFRESH-INTERVAL;VALUE=DURATION:PT1H
X-Robots-Tag:noindex
X-PUBLISHED-TTL:PT1H
BEGIN:VTIMEZONE
TZID:UTC
BEGIN:STANDARD
TZOFFSETFROM:+0000
TZOFFSETTO:+0000
TZNAME:UTC
DTSTART:20250101T000000
END:STANDARD
END:VTIMEZONE
BEGIN:VEVENT
DTSTART;TZID=UTC:20260413T080000
DTEND;TZID=UTC:20260415T170000
DTSTAMP:20260421T111138
CREATED:20260330T224314Z
LAST-MODIFIED:20260416T142415Z
UID:4661-1776067200-1776272400@freeportrevolver.org
SUMMARY:****Outdoor Range Closed 8am-5:00pm
DESCRIPTION:Outdoor Range Closed
URL:https://freeportrevolver.org/event/outdoor-range-closed-8am-500pm-15/
END:VEVENT
END:VCALENDAR