BEGIN:VCALENDAR
VERSION:2.0
PRODID:-//FREEPORT REVOLVER &amp; RIFLE ASSOCIATION - ECPv6.15.20//NONSGML v1.0//EN
CALSCALE:GREGORIAN
METHOD:PUBLISH
X-ORIGINAL-URL:https://freeportrevolver.org
X-WR-CALDESC:Events for FREEPORT REVOLVER &amp; RIFLE ASSOCIATION
REFRESH-INTERVAL;VALUE=DURATION:PT1H
X-Robots-Tag:noindex
X-PUBLISHED-TTL:PT1H
BEGIN:VTIMEZONE
TZID:UTC
BEGIN:STANDARD
TZOFFSETFROM:+0000
TZOFFSETTO:+0000
TZNAME:UTC
DTSTART:20250101T000000
END:STANDARD
END:VTIMEZONE
BEGIN:VEVENT
DTSTART;TZID=UTC:20260416T190000
DTEND;TZID=UTC:20260416T210000
DTSTAMP:20260421T111634
CREATED:20260330T230103Z
LAST-MODIFIED:20260330T230103Z
UID:4680-1776366000-1776373200@freeportrevolver.org
SUMMARY:Indoor Range Closed 7-9:00pm
DESCRIPTION:Little Club match \nFreeport Blue (home) vs Old Bethpage \nMatch B402
URL:https://freeportrevolver.org/event/indoor-range-closed-7-900pm-20/
END:VEVENT
END:VCALENDAR