BEGIN:VCALENDAR
VERSION:2.0
PRODID:-//FREEPORT REVOLVER &amp; RIFLE ASSOCIATION - ECPv6.15.20//NONSGML v1.0//EN
CALSCALE:GREGORIAN
METHOD:PUBLISH
X-WR-CALNAME:FREEPORT REVOLVER &amp; RIFLE ASSOCIATION
X-ORIGINAL-URL:https://freeportrevolver.org
X-WR-CALDESC:Events for FREEPORT REVOLVER &amp; RIFLE ASSOCIATION
REFRESH-INTERVAL;VALUE=DURATION:PT1H
X-Robots-Tag:noindex
X-PUBLISHED-TTL:PT1H
BEGIN:VTIMEZONE
TZID:UTC
BEGIN:STANDARD
TZOFFSETFROM:+0000
TZOFFSETTO:+0000
TZNAME:UTC
DTSTART:20250101T000000
END:STANDARD
END:VTIMEZONE
BEGIN:VEVENT
DTSTART;TZID=UTC:20260426T140000
DTEND;TZID=UTC:20260426T180000
DTSTAMP:20260421T111250
CREATED:20260330T223934Z
LAST-MODIFIED:20260330T223934Z
UID:4654-1777212000-1777226400@freeportrevolver.org
SUMMARY:Indoor Range closed 2-6:00pm
DESCRIPTION:Juniors will meet today \nAll new members must schedule\, please call John at 516-250-7373
URL:https://freeportrevolver.org/event/indoor-range-closed-2-600pm-15/
END:VEVENT
END:VCALENDAR