BEGIN:VCALENDAR
VERSION:2.0
PRODID:-//FREEPORT REVOLVER &amp; RIFLE ASSOCIATION - ECPv6.15.20//NONSGML v1.0//EN
CALSCALE:GREGORIAN
METHOD:PUBLISH
X-ORIGINAL-URL:https://freeportrevolver.org
X-WR-CALDESC:Events for FREEPORT REVOLVER &amp; RIFLE ASSOCIATION
REFRESH-INTERVAL;VALUE=DURATION:PT1H
X-Robots-Tag:noindex
X-PUBLISHED-TTL:PT1H
BEGIN:VTIMEZONE
TZID:UTC
BEGIN:STANDARD
TZOFFSETFROM:+0000
TZOFFSETTO:+0000
TZNAME:UTC
DTSTART:20250101T000000
END:STANDARD
END:VTIMEZONE
BEGIN:VEVENT
DTSTART;TZID=UTC:20260420T080000
DTEND;TZID=UTC:20260424T170000
DTSTAMP:20260421T095934
CREATED:20260330T224355Z
LAST-MODIFIED:20260330T224355Z
UID:4663-1776672000-1777050000@freeportrevolver.org
SUMMARY:****Outdoor Range Closed 8am-5:00pm
DESCRIPTION:Outdoor Range Closed
URL:https://freeportrevolver.org/event/outdoor-range-closed-8am-500pm-16/
END:VEVENT
BEGIN:VEVENT
DTSTART;TZID=UTC:20260422T080000
DTEND;TZID=UTC:20260422T120000
DTSTAMP:20260421T095934
CREATED:20260330T223709Z
LAST-MODIFIED:20260330T223709Z
UID:4646-1776844800-1776859200@freeportrevolver.org
SUMMARY:Indoor range closed 8am-12:00pm
DESCRIPTION:Indoor range closed
URL:https://freeportrevolver.org/event/indoor-range-closed-8am-1200pm-92/
END:VEVENT
BEGIN:VEVENT
DTSTART;TZID=UTC:20260423T190000
DTEND;TZID=UTC:20260423T210000
DTSTAMP:20260421T095934
CREATED:20260331T000740Z
LAST-MODIFIED:20260331T000740Z
UID:4683-1776970800-1776978000@freeportrevolver.org
SUMMARY:Indoor Range Closed 7-9:00pm
DESCRIPTION:Little Club Match \nFreeport Gold (home) vs Old Bethpage \nMatch 4620
URL:https://freeportrevolver.org/event/indoor-range-closed-7-900pm-21/
END:VEVENT
BEGIN:VEVENT
DTSTART;TZID=UTC:20260426T140000
DTEND;TZID=UTC:20260426T180000
DTSTAMP:20260421T095934
CREATED:20260330T223934Z
LAST-MODIFIED:20260330T223934Z
UID:4654-1777212000-1777226400@freeportrevolver.org
SUMMARY:Indoor Range closed 2-6:00pm
DESCRIPTION:Juniors will meet today \nAll new members must schedule\, please call John at 516-250-7373
URL:https://freeportrevolver.org/event/indoor-range-closed-2-600pm-15/
END:VEVENT
BEGIN:VEVENT
DTSTART;TZID=UTC:20260427T080000
DTEND;TZID=UTC:20260430T170000
DTSTAMP:20260421T095934
CREATED:20260330T224436Z
LAST-MODIFIED:20260330T224436Z
UID:4664-1777276800-1777568400@freeportrevolver.org
SUMMARY:****Outdoor Range Closed 8am-5:00pm
DESCRIPTION:Outdoor Range Closed
URL:https://freeportrevolver.org/event/outdoor-range-closed-8am-500pm-17/
END:VEVENT
BEGIN:VEVENT
DTSTART;TZID=UTC:20260429T080000
DTEND;TZID=UTC:20260429T120000
DTSTAMP:20260421T095934
CREATED:20260330T223741Z
LAST-MODIFIED:20260330T223741Z
UID:4650-1777449600-1777464000@freeportrevolver.org
SUMMARY:Indoor range closed 8am-12:00pm
DESCRIPTION:Indoor range closed
URL:https://freeportrevolver.org/event/indoor-range-closed-8am-1200pm-93/
END:VEVENT
BEGIN:VEVENT
DTSTART;TZID=UTC:20260430T190000
DTEND;TZID=UTC:20260430T210000
DTSTAMP:20260421T095934
CREATED:20260331T000944Z
LAST-MODIFIED:20260331T000944Z
UID:4685-1777575600-1777582800@freeportrevolver.org
SUMMARY:Indoor Range Closed 7-9:00pm
DESCRIPTION:Little Club match \nFreeport Flounders (home) vs Freeport Rangers \nMatch A302a
URL:https://freeportrevolver.org/event/indoor-range-closed-7-900pm-22/
END:VEVENT
END:VCALENDAR